BEGIN:VCALENDAR
VERSION:2.0
PRODID:-//Centre d'Étude du Pays Sezannais//NONSGML kigkonsult.se iCalcreat
 or 2.30.10//
CALSCALE:GREGORIAN
METHOD:PUBLISH
UID:460825fa-bf5e-409f-88c0-1bbcac237f4a
X-WR-CALNAME:iCagenda
X-WR-CALDESC:Event Management Extension for Joomla!
X-WR-RELCALID:3E26604A-50F4-4449-8B3E-E4F4932D05B5
X-WR-TIMEZONE:UTC
BEGIN:VTIMEZONE
TZID:UTC
END:VTIMEZONE
BEGIN:VEVENT
UID:c6778634-37ef-400a-b0ee-8ae78d0cc80b
DTSTAMP:20260423T095818Z
CATEGORIES:Dédicace
CLASS:PUBLIC
DESCRIPTION;ALTREP="CID:<FFFF__=0ABBE548DFE235B58f9e8a93d@coffeebean.com>":
 \n&nbsp\;\n\n\n\n&nbsp\;\n&nbsp\;Lors de l'exposition\, Luc DASSENS vous p
 résentera le numéro 29 sur la genèse du monument de Mondement\n&nbsp\;\n\n
 \n\n
DTSTART:20241111T140000Z
DTEND:20241111T190000Z
GEO:+48.660271;+3.553134
LOCATION:Place de la Mairie\, 51310 Les Essarts-le-Vicomte
ORGANIZER;CN=:dassensluc@orange.fr
SEQUENCE:1
SUMMARY:Cérémonies du 11 Novembre à Les Essarts-le-Vicomte
TRANSP:OPAQUE
URL:https://sezanne-pays-sezannais.fr/index.php/component/icagenda/14-armis
 tice-de-1918
END:VEVENT
END:VCALENDAR
