BEGIN:VCALENDAR
VERSION:2.0
PRODID:-//Centre d'Étude du Pays Sezannais//NONSGML kigkonsult.se iCalcreat
 or 2.30.10//
CALSCALE:GREGORIAN
METHOD:PUBLISH
UID:48485ab2-b502-4589-94f4-7256d433b452
X-WR-CALNAME:iCagenda
X-WR-CALDESC:Event Management Extension for Joomla!
X-WR-RELCALID:3E26604A-50F4-4449-8B3E-E4F4932D05B5
X-WR-TIMEZONE:UTC
BEGIN:VTIMEZONE
TZID:UTC
END:VTIMEZONE
BEGIN:VEVENT
UID:d0b85ddc-b53b-46f8-a421-3194351d5245
DTSTAMP:20260423T093921Z
CATEGORIES:Dédicace
CLASS:PUBLIC
DESCRIPTION;ALTREP="CID:<FFFF__=0ABBE548DFE235B58f9e8a93d@coffeebean.com>":
 Retrouvez l'équipe du Pays Sézannais pour une séance de dédicace le 16 nov
 embre.
DTSTART:20241116T100000Z
DTEND:20241116T190000Z
GEO:+49.151047;+6.149377
LOCATION:3 Pl. André Debs\, 57140 Woippy
ORGANIZER;CN=:dassensluc@orange.fr
SEQUENCE:1
SUMMARY:Salon du Livre d'Histoire de Woippy
TRANSP:OPAQUE
URL:https://sezanne-pays-sezannais.fr/index.php/component/icagenda/15-salon
 -du-livre-dhistoire-de-woippy
END:VEVENT
END:VCALENDAR
