BEGIN:VCALENDAR
VERSION:2.0
PRODID:-//Centre d'Étude du Pays Sezannais//NONSGML kigkonsult.se iCalcreat
 or 2.30.10//
CALSCALE:GREGORIAN
METHOD:PUBLISH
UID:59bca7e9-cbe4-4e8c-ba06-1255db850355
X-WR-CALNAME:iCagenda
X-WR-CALDESC:Event Management Extension for Joomla!
X-WR-RELCALID:3E26604A-50F4-4449-8B3E-E4F4932D05B5
X-WR-TIMEZONE:UTC
BEGIN:VTIMEZONE
TZID:UTC
END:VTIMEZONE
BEGIN:VEVENT
UID:116999b5-cbdc-4a0b-ba93-0b799de8d1da
DTSTAMP:20260423T093958Z
CATEGORIES:Dédicace
CLASS:PUBLIC
DESCRIPTION;ALTREP="CID:<FFFF__=0ABBE548DFE235B58f9e8a93d@coffeebean.com>":
 Retrouvez l'équipe du Pays Sézannais pour une séance de dédicace de 10h00 
 à 17h00
DTSTART:20241117T100000Z
DTEND:20241117T170000Z
GEO:+48.679333;+2.970417
LOCATION:Gymnase Catherine LOMBARD
ORGANIZER;CN=:dassensluc@orange.fr
SEQUENCE:1
SUMMARY:Salon du Livre de Rozay-en-Brie.
TRANSP:OPAQUE
URL:https://sezanne-pays-sezannais.fr/index.php/component/icagenda/16-salon
 -du-livre-de-rozay-en-brie
END:VEVENT
END:VCALENDAR
