BEGIN:VCALENDAR
VERSION:2.0
PRODID:-//Centre d'Étude du Pays Sezannais//NONSGML kigkonsult.se iCalcreat
 or 2.30.10//
CALSCALE:GREGORIAN
METHOD:PUBLISH
UID:9fb85659-83ce-4af9-8954-cb73aaf67bbc
X-WR-CALNAME:iCagenda
X-WR-CALDESC:Event Management Extension for Joomla!
X-WR-RELCALID:3E26604A-50F4-4449-8B3E-E4F4932D05B5
X-WR-TIMEZONE:UTC
BEGIN:VTIMEZONE
TZID:UTC
END:VTIMEZONE
BEGIN:VEVENT
UID:76112887-2b56-4bf2-8f78-8c46104a9cb5
DTSTAMP:20260423T094130Z
CATEGORIES:Dédicace
CLASS:PUBLIC
DESCRIPTION;ALTREP="CID:<FFFF__=0ABBE548DFE235B58f9e8a93d@coffeebean.com>":
 Retrouvez l'équipe du Pays Sézannais pour une séance de dédicace les 23 et
  24 novembre
DTSTART:20241123T090000Z
DTEND:20241124T180000Z
GEO:+48.097393;+7.361304
LOCATION:Parc des Expositions de Colmar
ORGANIZER;CN=:dassensluc@orange.fr
SEQUENCE:1
SUMMARY:35° Festival du Livre de Colmar
TRANSP:OPAQUE
URL:https://sezanne-pays-sezannais.fr/index.php/component/icagenda/17-35-fe
 stival-du-livre-de-colmar
END:VEVENT
END:VCALENDAR
